Workbook

Sheet Zał. 2 Przedsięwzięcia
A1: Załącznik Nr 2 do uchwały Nr XXIV/144/2012 z 21 września 2012r. | E1: Załącznik nr 2 do uchwały Nr XIV/97/2011 Rady Gminy Jeleśnia z dnia 29 grudnia 2011r.
B2: WYKAZ PRZEDSIĘWZIĘĆ GMINY JELEŚNIA W LATACH 2012-2029
A3: Lp. | B3: Nazwa i cel przedsięwzięcia | C3: Jednostka organizacyjna odpowiedzialna za realizację lub koordynująca wykonywanie przedsięwzięcia | D3: Okres realizacji | E3: Łączne nakłady finansowe | F3: Nakłady poniesione w latach poprzednich | G3: Limit zobowiązań | H3: Limity wydatków
H4: 2012 | I4: 2013 | J4: 2014 | K4: 2015 | L4: 2016 | M4: 2017 | N4: 2018 | O4: 2019 | P4: 2020 | Q4: 2021 | R4: 2022 | S4: 2023 | T4: 2024 | U4: 2025 | V4: 2026 | W4: 2027 | X4: 2028 | Y4: 2029
A5: I | B5: Umowy, o których mowa w art. 226, ust. 4 pkt 2 ufp (zapewnienie ciągłości dzialania jednostki) | C5: UG JELEŚNIA | D5: X | E5: =E6+E7 -> 59778 | F5: =F6+F7 -> 43050 | G5: =G6+G7 -> 16728 | H5: =H6+H7 -> 16728 | I5: =I6+I7 -> 0 | J5: =J6+J7 -> 0 | K5: =K6+K7 -> 0 | L5: =L6+L7 -> 0 | ... Y5: =Y6+Y7 -> 0
A6: 1. | B6: Umowa w zakresie opieki serwisowej oraz pomocy autorskiej usługi ProSOD | C6: UG JELEŚNIA | D6: 18.11.2011-17.11.2012 | E6: 4428 | F6: 0 | G6: 4428 | H6: 4428
A7: 2. | B7: Umowa na opracowanie studium wykonalności - analizy ekonomiczno-finansowej wraz z projektamikosztorysem i przedmiarem robót projektu "Zagospodarowanie turystyczne terenu w pobliżu przejścia granicznego w Korbielowie kluczem do rozwoju infrastruktury turystyczno-rekreacyjnej w Gminie Jeleśnia" | C7: UG JELEŚNIA | D7: 15.11.2011-15.02.2012 | E7: 55350 | F7: 43050 | G7: 12300 | H7: 12300
A8: II | B8: Przedsięwzięcia, o których mowa w art. 226, ust. 4 pkt 1 ufp (wydatki bieżące)
A9: 1 | B9: Równać do najlepszych Cel:wsparcie istniejących programów rozwojowych szkół działających na terenie gminy, podniesienie w nich jakości procesu kształcenia | C9: UG JELEŚNIA | D9: 2010-2012 | E9: 926750 | F9: 506262 | G9: =H9+I9 -> 420488 | H9: 420488
A10: 2 | B10: Na naukę nigdy nie jest za wcześnie Cel:wsparcie istniejących przedszkoli oraz zwiększenie uczestnictwa dzieci w wieku 3-6 lat w edukacji przedszkolnej | C10: UG JELEŚNIA | D10: 2011-2013 | E10: 1111966 | F10: 254945.11 | G10: =H10+I10 -> 857020.89 | H10: 563416.89 | I10: 293604
A11: 3 | B11: Z nowym zawodem znajdę pracę Cel: poprawa zdolności do zatrudnienia 12 pozostających bez pracy mieszkańców gminy w wieku aktywności zawodowej | C11: UG JELEŚNIA | D11: 2011-2012 | E11: 44290 | F11: 17240 | G11: =H11+I11 -> 27050 | H11: 27050
A12: 4 | B12: IPD ifinanse to nowe szanse Cel: podniesienie zdolności do zatrudnienia oraz mobilności przestrzennej i zawodowej 12 nie pracujących mieszkańców gminy w wieku aktywności zawodowej | C12: UG JELEŚNIA | D12: 2011-2012 | E12: 38250 | F12: 7400 | G12: =H12 -> 30850 | H12: 30850
A13: 5. | B13: Uwierz w swoje siły! Aktywizacja osób zagrożonych wykluczeniem społecznym w Gminie Jeleśnia Cel: aktywizacja osób zagrożonych wykluczeniem społecznym | C13: GOPS JELEŚNIA | D13: 2010-2013 | E13: 680730 | F13: 386187.55 | G13: 294542.45 | H13: 147454.45 | I13: 147088
A14: 5 | B14: Pierwsze kroki w szkole Cel:wzrost efektów nauczania uczniów z klas I-III poprzez podniesienie jakości kształenia, dzięki jego indywidualizacji w odniesieniu do posczególnych uczniów | C14: UG JELEŚNIA | D14: 2012-2013 | E14: 300000 | F14: 0 | G14: 300000 | H14: 294000 | I14: 6000
A15: Suma | C15: X | D15: X | E15: =SUM(E9:E14) -> 3101986 | F15: =SUM(F9:F14) -> 1172034.7 | G15: =SUM(G9:G13) -> 1629951.3 | H15: =SUM(H9:H14) -> 1483259.3 | I15: =SUM(I9:I14) -> 446692 | J15: =SUM(J9:J12) -> 0 | K15: =SUM(K9:K12) -> 0 | L15: =SUM(L9:L12) -> 0 | M15: =SUM(M9:M12) -> 0 | N15: =SUM(N9:N12) -> 0 | O15: =SUM(O9:O12) -> 0 | P15: =SUM(P9:P12) -> 0 | Q15: =SUM(Q9:Q12) -> 0 | ... Y15: =SUM(Y9:Y12) -> 0
A17: III | B17: Przedsięwzięcia, o których mowa w art. 226, ust. 4 pkt 1 ufp (wydatki majątkowe)
A18: Lp. | B18: Nazwa i cel przedsięwzięcia | C18: Jednostka organizacyjna odpowiedzialna za realizację lub koordynująca wykonywanie przedsięwzięcia | D18: Okres realizacij | E18: Łączne nakłady finansowe | F18: Nakłady poniesione w latach poprzednich | G18: Limit zobowiązań | H18: 2012 | I18: 2013 | J18: 2014 | K18: 2015 | L18: 2016 | M18: 2017 | N18: 2018 | O18: 2019 | P18: 2020 | Q18: 2021 | R18: 2022 | S18: 2023 | T18: 2024 | U18: 2025 | V18: 2026 | W18: 2027 | X18: 2028 | Y18: 2029
A19: 1 | B19: Projekt"oczyszczania ścieków na żywiecczyźnie" w ramach zawartego porozumienia ze Związkiem Międzygminnym w zakresie wkładu własnego Gminy Cel:ochrona środowiska naturalnego | C19: UG JELEŚNIA | D19: 2005-2021 | E19: =F19+G19 -> 14981966 | F19: 5764607 | G19: =SUM(H19:Q19) -> 9217359 | H19: 1090808 | I19: 1053236 | J19: 1015665 | K19: 978093 | L19: 940521 | M19: 902951 | N19: 865379 | O19: 827807 | P19: 790236 | Q19: 752663 | R19: 0
A20: 2 | B20: Budowa sieci kanalizacyjnej w Gminie Jeleśnia będąca poza zakresem projektu "oczyszczania ścieków na żywiecczyźnie" w ramach zawartego porozumienia ze Związkiem Międzygminnym w zakresie wkładu własnego Gminy Cel: ochrona środowiska naturalnego | C20: UG JELEŚNIA | D20: 2007-2029 | E20: 66008062 | F20: 545128 | G20: =SUM(H20:Y20) -> 65462934 | H20: 700000 | I20: 800000 | J20: 2500000 | K20: 2500000 | L20: 2700000 | M20: 2700000 | N20: 3000000 | O20: 3500000 | P20: 3224840 | Q20: 3472443 | R20: 4194532 | S20: 4482106 | T20: 4432143 | U20: 4484413 | V20: 5300000 | W20: 5300000 | X20: 6100000 | Y20: 6072457
A21: 3 | B21: Kompleksowa termomodernizacja obiektów szkolnych w Gminie Jeleśnia Cel:przekstałcenie obecnych systemów ogrzewania czterech budynków szkolnych w systemy bardziej przyjazne środowisku, wpływające na zmniejszenie ilości substancji zanieczyszczających wprowadzanych do powietrza ( ze środków własnych i WFOŚiGW) | C21: UG JELEŚNIA | D21: 2012-2013 | E21: 1828992.8 | F21: 0 | G21: =H21+I21 -> 1828992.8 | H21: 428536.22 | I21: 1400456.6
A22: 4. | B22: Leasig samochodu Citroen Berlingo 1.6HDI 75 KM E5 VAN | C22: UG JELEŚNIA | D22: 7.12.2011-12.12.2012 | E22: =F22+G22 -> 50343.5 | F22: 23997.5 | G22: 26346 | H22: 26346
A23: 5 | B23: Zagospodarowanie turystyczne terenu w pobliżu przejścia granicznego w Korbielowie kluczem do rozwoju infrastruktury turystyczno-rekreacyjnej w Gminie Jeleśnia Cel: wykreowanie nowego produktu turystycznego, wykorzystującego potencjał rekreacyjny i wpypoczynkowy | C23: UG JELEŚNIA | D23: 1.10.2011-31.01.2013 | E23: 3516323 | F23: 43050 | G23: 3483273 | H23: 3473273 | I23: 10000
A24: 6. | B24: Rozbudowa infrastruktury informatycznej celem poszerzenia e-usług w Urzędzie Gminy Jeleśnia Cel: wzrost liczby usług publicznych świadczonych drogą eolektroniczną przez Urząd Gminy Jeleśnia dla mieszkańców | C24: UG JELEŚNIA | D24: 2012-2014 | E24: 3516323 | F24: 0 | G24: 3516323 | H24: 17220 | I24: 2157392 | J24: 67926
A25: Suma | C25: X | D25: X | E25: =SUM(E19:E24) -> 89902010 | F25: =SUM(F19:F24) -> 6376782.5 | G25: =SUM(G19:G24) -> 83535228 | H25: =SUM(H19:H24) -> 5736183.2 | I25: =SUM(I19:I24) -> 5421084.6 | J25: =SUM(J19:J24) -> 3583591 | K25: =SUM(K19:K23) -> 3478093 | L25: =SUM(L19:L22) -> 3640521 | M25: =SUM(M19:M21) -> 3602951 | N25: =SUM(N19:N21) -> 3865379 | O25: =SUM(O19:O21) -> 4327807 | P25: =SUM(P19:P21) -> 4015076 | Q25: =SUM(Q19:Q21) -> 4225106 | R25: =SUM(R19:R21) -> 4194532 | S25: =SUM(S19:S21) -> 4482106 | T25: =SUM(T19:T21) -> 4432143 | ... Y25: =SUM(Y19:Y21) -> 6072457
A26: IV | B26: Wieloletnie poręczenia i gwarancje, o których mowa w art. 226, ust. 4 pkt 3 ufp (wydatki bieżące)
A27: 1 | B27: Umowa poręczenia pożyczki wraz z należnymi odsetkami zaciągniętej przez Związek Międzygminny ds. Ekologii w Narodowym Funduszu Ochrony Środowiska i Gospodarki Wodnej - łączna wysokość za cały okres to kwota 15 561 265,20 zł | C27: UG JELEŚNIA | D27: 2008-2024 | E27: =SUM(H27:X27) -> 12267061 | F27: 0 | G27: =SUM(H27:Y27) -> 12267061 | H27: 819677.2 | I27: 1155828 | J27: 1120131 | K27: 1084433.1 | L27: 1048735.6 | M27: 1013038.1 | N27: 977341 | O27: 941643 | P27: 905946 | Q27: 870245 | R27: 890132 | S27: 851718 | T27: 588193
A28: Suma | C28: X | D28: X | E28: =SUM(E27:E27) -> 12267061 | F28: =SUM(F27) -> 0 | G28: =SUM(H28:Y28) -> 12267061 | H28: =H27 -> 819677.2 | I28: =I27 -> 1155828 | J28: =J27 -> 1120131 | K28: =K27 -> 1084433.1 | L28: =L27 -> 1048735.6 | M28: =M27 -> 1013038.1 | N28: =N27 -> 977341 | O28: =O27 -> 941643 | ... Y28: =Y27 -> 0
A29: Łącznie ( I + II + III+IV) | C29: X | D29: X | E29: =E5+E15+E25+E28 -> 1.0533084e+08 | F29: 7410843 | G29: =G28+G25+G15 -> 97432240 | H29: =H5+H15+H25+H28 -> 8055847.8 | I29: =I5+I15+I25+I28 -> 7023604.6 | J29: =J5+J15+J25+J28 -> 4703722 | K29: =K5+K15+K25+K28 -> 4562526.1 | L29: =L5+L15+L25+L28 -> 4689256.6 | M29: =M5+M15+M25+M28 -> 4615989.1 | N29: =N5+N15+N25+N28 -> 4842720 | O29: =O5+O15+O25+O28 -> 5269450 | ... Y29: =Y5+Y15+Y25+Y28 -> 6072457

Sheet Zał. 3 objaśnienia
A1: Załącznik Nr 3
A2: do uchwały Nr XXI/144/2012 | E2: Załącznik Nr 3
A3: Rady Gminy Jeleśnia z dnia 21 września 2012r. | E3: do uchwały Nr XIV/97/2011
E4: Rady Gminy Jeleśnia z dnia 29 grudnia 2011
C6: Objaśnienia
C7: do Wieloletniej Prognozy Finansowej Gminy Jeleśnia na lata 2012 – 2029
A10: Wieloletnia Prognozę Finansową (zwana w dalszej części objaśnień jako WPF) Gminy Jeleśnia opracowano na podstawie art. 226, art. 227, art. 228, art. 230 ust. 6 i art. 243 ustawy publicznych dnia 27 sierpnia 2009r. o finansach publicznych (Dz. U. Nr 157, poz. 1240 ze zm.). Prognoza opracowana jest na okres lata 2012 do 2029r. tj. na okres, w którym kończy się przedsięwzięcie w postaci: Budowy sieci kanalizacyjnej i wodociągowej w Gminie Jeleśnia po zmianie zakresu rzeczowego do projektu "oczyszczania ścieków na żywiecczyźnie" w ramach zawartego porozumienia ze Związkiem Międzygminnym w zakresie wkładu własnego Gminy. .
A11: 1. W załączniku Nr 1 do uchwały w sprawie uchwalenia Wieloletniej Prognozy Finansowej Gminy Jeleśnia na lata 2012 – 2029 określono dla każdego roku objętego prognozą:
A12: 1)dochody bieżące oraz wydatki bieżące budżetu Gminy Jeleśnia, w tym na obsługę długu, gwarancje i poręczenia;
A13: 2)dochody majątkowe, w tym dochody ze sprzedaży majątku, oraz wydatki majątkowe budżetu jednostki samorządu terytorialnego;
A14: 3) wynik budżetu Gminy Jeleśnia;
A15: 4) przeznaczenie nadwyżki albo sposób sfinansowania deficytu;
A16: 5) przychody i rozchody budżetu Gminy Jeleśnia, z uwzględnieniem długu zaciągniętego oraz planowanego do zaciągnięcia;
A17: 6) kwotę długu Gminy Jeleśnia, w tym relację, o której mowa w art. 243, oraz sposób sfinansowania spłaty długu;
A18: 2. W wydatkach, o których mowa w załączniku Nr 1 pkt. 1 ust.1 i 2 , wyszczególniono także:
A19: 1) kwotę wydatków bieżących i majątkowych wynikających z limitów wydatków na planowane i realizowane przedsięwzięcia, (określonych w załączniku Nr 2 do WPF)
A20: 2) kwotę wydatków na wynagrodzenia i składki od nich naliczane oraz wydatki związane z funkcjonowaniem organów jednostki samorządu terytorialnego.
A21: W załączniku tym, rok 2012 liczono wg wartości przyjętych w uchwale budżetowej. Natomiast dla kolejnych lat tj. od roku 2013 przyjęto rokrocznie od 0,5 % do 4,5 % wzrostu dochodów bieżących gminy przyjmując jako rok bazowy rok 2011. Dość duży wzrost dochodów bieżących pomiędzy rokiem 2012 a rokiem 2013 spowodowany jest dodatkowym wzrostem dochodów bieżących o 2% podatku od oddanych budowli (kanalizacja i wodociąg, których szacunkowa wartość została wyliczona przez Związek Międzygminny ds. Ekologii w Żywcu na kwotę 155 483 465 zł) tj. o kwotę ok. 3 mln zł rocznie.
... A51: W pkt IV pod nazwą „Wieloletnie poręczenia i gwarancje, o których mowa w art. 226, ust. 4 pkt 3 uofp” (dotyczy wydatków bieżących) wpisano poręczenie udzielane przez Gminę Jeleśnia Związkowi Międzygminnemu ds. Ekologii w Żywcu, pożyczki zaciągniętej w Narodowym Funduszu Ochrony Środowiska i Gospodarki Wodnej w dniu 27.08.2008r - na zadanie budowy kanalizacji z udziałem środków unijnych (zmieniono limit na rok 2012 ).

Sheet arkusz 1
E1: Tabela startowa do WPF
B4: Dług na koniec 2010 roku | D4: 14379730
A7: Wielkości początkowe za lata 2008 - 2009 do obliczenia relacji, o której mowa w art. 243 ufp
A11: Lp. | B11: Wyszczególnienie | C11: 2009 | D11: 2010
A12: a | B12: Dochody bieżące | C12: 33450234 | D12: 34081295
A13: b | B13: Sprzedaż majątku | C13: 79810 | D13: 3340
A14: c | B14: Wydatki bieżące | C14: 28574358 | D14: 33528397
A15: d | B15: Dochody ogółem | C15: 35519045 | D15: 37165824
A16: e | B16: (Dochody bieżące+ sprzedaż majątku-wydatki bieżące)/ dochody ogółem | C16: =(C12+C13-C14)/C15 -> 0.13952194 | D16: =(D12+D13-D14)/D15 -> 0.014966384

Sheet Arkusz 2 
H1: Załacznik Nr 1 do uchwały Nr XIV/97/2011 Rady GminyJeleśnia z dnia 29 grudnia 2011 roku
E2: Wieloletnia Prognoza Finansowa Gminy Jeleśnia na lata 2012-2029
F3: Tabela główna
A5: lp. | B5: Wyszczególnienie | D5: 2011 * | E5: 2012 | F5: 2013 | G5: 2014 | H5: 2015 | I5: 2016 | J5: 2017 | K5: 2018 | L5: 2019 | M5: 2020 | N5: 2021 | O5: 2022 | P5: 2023 | Q5: 2024 | R5: 2025 | S5: 2026 | T5: 2027 | U5: 2028 | V5: 2029
A6: I | B6: Dochody | D6: =D7+D8 -> 40538695 | E6: =E7+E8 -> 42400244 | F6: =F7+F8 -> 42115829 | G6: =G7+G8 -> 41421618 | H6: =H7+H8 -> 40631683 | I6: =I7+I8 -> 42488318 | J6: =J7+J8 -> 42710308 | K6: =K7+K8 -> 43360311 | ... V6: =V7+V8 -> 49224027
A7: a | C7: bieżące | D7: 40023971 | E7: 39028878 | F7: 40282045 | G7: 41363881 | H7: 40631683 | I7: 42488318 | J7: 42710308 | K7: 43360311 | L7: 44968893 | M7: 43097526 | N7: 44205728 | O7: 45635620 | P7: =O7*1%+O7 -> 46091976 | Q7: =P7*1%+P7 -> 46552896 | R7: =Q7*1%+Q7 -> 47018425 | S7: 47921806 | T7: 48159908 | U7: 49196484 | V7: 49224027
A8: b | C8: majątkowe | D8: 514724 | E8: 3371366 | F8: 1833784 | G8: 57737 | H8: 0 | I8: 0 | J8: 0 | K8: 0
B9: w tym | C9: sprzedaż majątku | D9: 2569 | E9: 120000 | F9: 0 | G9: 0 | H9: 0 | I9: 0 | J9: 0 | K9: 0 | L9: 0 | M9: 0 | N9: 0 | O9: 0 | P9: 0 | Q9: 0 | R9: 0 | S9: 0 | T9: 0 | U9: 0 | V9: 0
A10: II | B10: Wydatki | D10: =D11+D19 -> 41564852 | E10: =E11+E19 -> 44332286 | F10: =F11+F19 -> 40868994 | G10: =G11+G19 -> 38591618 | H10: =H11+H19 -> 37913683 | I10: =I11+I19 -> 40348318 | J10: =J11+J19 -> 40090308 | K10: =K11+K19 -> 40829311 | ... V10: =V11+V19 -> 49224027
A11: a | C11: bieżące | D11: 37959123 | E11: 38310198 | F11: 32474765 | G11: 32918216 | H11: 34435590 | I11: 35803506 | J11: 36101095 | K11: 36963932 | L11: 37763913 | M11: 38052544 | N11: 39955769 | O11: 41164357 | P11: 41609870 | Q11: 42120753 | R11: 42534012 | S11: 42621806 | T11: 42859908 | U11: 43096484 | V11: 43151570
B12: w tym | C12: obsługa długu | D12: 730173 | E12: ='[1]zał.2 wydatki'!$D$47 -> 768657 | F12: 795520 | G12: 672155 | H12: 575637 | I12: 468877 | J12: 283994 | K12: 176938 | L12: 76769 | M12: 11170 | N12: 0 | O12: 0 | P12: 0 | Q12: 0 | R12: 0 | S12: 0 | T12: 0 | U12: 0 | V12: 0
C13: gwarancje i poręczenia | D13: 0 | E13: ='Zał. 2 Przedsięwzięcia'!H27 -> 819677.2 | F13: ='Zał. 2 Przedsięwzięcia'!I27 -> 1155828 | G13: ='Zał. 2 Przedsięwzięcia'!J27 -> 1120131 | H13: ='Zał. 2 Przedsięwzięcia'!K27 -> 1084433.1 | I13: ='Zał. 2 Przedsięwzięcia'!L27 -> 1048735.6 | J13: ='Zał. 2 Przedsięwzięcia'!M27 -> 1013038.1 | K13: ='Zał. 2 Przedsięwzięcia'!N27 -> 977341 | L13: ='Zał. 2 Przedsięwzięcia'!O27 -> 941643 | ... V13: ='Zał. 2 Przedsięwzięcia'!Y27 -> 0
C14: wynagrodzenia i składki od nich naliczane | D14: 16545758 | E14: 17412212 | F14: 17400000 | G14: 17297960 | H14: 17354429 | I14: 17614746 | J14: 17715700 | K14: 17804278 | L14: 17982766 | M14: 18072600 | N14: 18162963 | O14: 18253777 | P14: 18345046 | Q14: 18436772 | R14: 18528956 | S14: 18580000 | T14: 18600000 | U14: 18630000 | V14: 18660000
C15: wydatki związane z funkcjonowaniem organów j.s.t. | D15: 3481211 | E15: 3530292 | F15: 3500000 | G15: 3580000 | H15: 3610000 | I15: 3636000 | J15: 3383830 | K15: 3395000 | L15: 3410000 | M15: 3425000 | N15: 3430000 | O15: 3441000 | P15: 3450000 | Q15: 3467000 | R15: 3472000 | S15: 3482000 | T15: 3490000 | U15: 3500000 | V15: 3550000
C16: Przedsięwzięcia | D16: 1252546 | E16: ='Zał. 2 Przedsięwzięcia'!H15+'Zał. 2 Przedsięwzięcia'!H5 -> 1499987.3 | F16: ='Zał. 2 Przedsięwzięcia'!I15+'Zał. 2 Przedsięwzięcia'!I5 -> 446692 | G16: ='Zał. 2 Przedsięwzięcia'!J15 -> 0 | H16: ='Zał. 2 Przedsięwzięcia'!K15 -> 0 | I16: ='Zał. 2 Przedsięwzięcia'!X5+'Zał. 2 Przedsięwzięcia'!X15+'Zał. 2 Przedsięwzięcia'!X28 -> 0 | J16: ='Zał. 2 Przedsięwzięcia'!Y5+'Zał. 2 Przedsięwzięcia'!Y15+'Zał. 2 Przedsięwzięcia'!Y28 -> 0 | K16: ='Zał. 2 Przedsięwzięcia'!N15 -> 0 | L16: ='Zał. 2 Przedsięwzięcia'!AA5+'Zał. 2 Przedsięwzięcia'!AA15+'Zał. 2 Przedsięwzięcia'!AA28 -> 0 | M16: ='Zał. 2 Przedsięwzięcia'!AB5+'Zał. 2 Przedsięwzięcia'!AB15+'Zał. 2 Przedsięwzięcia'!AB28 -> 0 | N16: ='Zał. 2 Przedsięwzięcia'!AC5+'Zał. 2 Przedsięwzięcia'!AC15+'Zał. 2 Przedsięwzięcia'!AC28 -> 0 | O16: ='Zał. 2 Przedsięwzięcia'!AD5+'Zał. 2 Przedsięwzięcia'!AD15+'Zał. 2 Przedsięwzięcia'!AD28 -> 0 | P16: ='Zał. 2 Przedsięwzięcia'!AE5+'Zał. 2 Przedsięwzięcia'!AE15+'Zał. 2 Przedsięwzięcia'!AE28 -> 0 | Q16: ='Zał. 2 Przedsięwzięcia'!AF5+'Zał. 2 Przedsięwzięcia'!AF15+'Zał. 2 Przedsięwzięcia'!AF28 -> 0 | R16: ='Zał. 2 Przedsięwzięcia'!AG5+'Zał. 2 Przedsięwzięcia'!AG15+'Zał. 2 Przedsięwzięcia'!AG28 -> 0 | S16: ='Zał. 2 Przedsięwzięcia'!AH5+'Zał. 2 Przedsięwzięcia'!AH15+'Zał. 2 Przedsięwzięcia'!AH28 -> 0 | ... V16: ='Zał. 2 Przedsięwzięcia'!AK5+'Zał. 2 Przedsięwzięcia'!AK15+'Zał. 2 Przedsięwzięcia'!AK28 -> 0
A19: b | C19: majątkowe | D19: 3605729 | E19: 6022087.2 | F19: 8394229 | G19: 5673402 | H19: ='Zał. 2 Przedsięwzięcia'!K25 -> 3478093 | I19: 4544812 | J19: 3989213 | K19: ='Zał. 2 Przedsięwzięcia'!N25 -> 3865379 | L19: 4552081 | M19: ='Zał. 2 Przedsięwzięcia'!P25+430712 -> 4445788 | N19: ='Zał. 2 Przedsięwzięcia'!Q25+24853 -> 4249959 | O19: ='Zał. 2 Przedsięwzięcia'!R25+276731 -> 4471263 | P19: =P20 -> 4482106 | Q19: =Q20 -> 4432143 | R19: =R20 -> 4484413 | S19: =S20 -> 5300000 | T19: =T20 -> 5300000 | U19: =U20 -> 6100000 | V19: =V20 -> 6072457
B20: w tym | C20: Przedsięwzięcia | D20: 2087490 | E20: ='Zał. 2 Przedsięwzięcia'!H25 -> 5736183.2 | F20: ='Zał. 2 Przedsięwzięcia'!I25 -> 5421084.6 | G20: ='Zał. 2 Przedsięwzięcia'!J25 -> 3583591 | H20: ='Zał. 2 Przedsięwzięcia'!K25 -> 3478093 | I20: ='Zał. 2 Przedsięwzięcia'!L25 -> 3640521 | J20: ='Zał. 2 Przedsięwzięcia'!M25 -> 3602951 | K20: ='Zał. 2 Przedsięwzięcia'!N25 -> 3865379 | L20: ='Zał. 2 Przedsięwzięcia'!O25 -> 4327807 | ... V20: ='Zał. 2 Przedsięwzięcia'!Y25 -> 6072457
A21: III | B21: Przychody | D21: =D22+D26+D27+D28 -> 3010787 | E21: =E22+E26+E27+E28 -> 4157435.2 | F21: =F22+F26+F27+F28 -> 1030658.1 | G21: =G22+G26+G27+G28 -> 0 | H21: =H22+H26+H27+H28 -> 0 | I21: =I22+I26+I27+I28 -> 0 | J21: =J22+J26+J27+J28 -> 0 | K21: =K22+K26+K27+K28 -> 0 | ... V21: =V22+V26+V27+V28 -> 0
A22: a | C22: zaciągany dług | D22: =D23+D24+D25 -> 3010787 | E22: =E23+E24+E25 -> 4157435.2 | F22: =F23+F24+F25 -> 1030658.1 | G22: =G23+G24+G25 -> 0 | H22: =H23+H24+H25 -> 0 | I22: =I23+I24+I25 -> 0 | J22: =J23+J24+J25 -> 0 | K22: =K23+K24+K25 -> 0 | ... V22: =V23+V24+V25 -> 0
B23: w tym | C23: pożyczki | D23: 50787 | E23: 428536.22 | F23: 1030658.1
C24: kredyty | D24: 2960000 | E24: 3728899 | F24: 0 | G24: 0 | H24: 0 | I24: 0 | J24: 0 | K24: 0 | L24: 0 | M24: 0 | N24: 0 | O24: 0 | P24: 0 | Q24: 0 | R24: 0 | S24: 0 | T24: 0 | U24: 0 | V24: 0
C25: emisja obligacji | D25: 0
A26: b | C26: spłata udzielonych pożyczek | D26: 0
A27: c | C27: nadwyżka budżetowa z lat poprzednich | D27: 0
A28: d | C28: wolne środki | D28: 0
A29: IV | B29: Rozchody | D29: =D30+D34 -> 1984630 | E29: =E30+E34 -> 2225394 | F29: =F30+F34 -> 2277493 | G29: =G30+G34 -> 2830000 | H29: =H30+H34 -> 2718000 | I29: =I30+I34 -> 2140000 | J29: =J30+J34 -> 2620000 | K29: =K30+K34 -> 2531000 | ... V29: =V30+V34 -> 0
A30: a | C30: spłata długu | D30: =D31+D32+D33 -> 1984630 | E30: =E31+E32+E33 -> 2225394 | F30: =F31+F32+F33 -> 2277493 | G30: =G31+G32+G33 -> 2830000 | H30: =H31+H32+H33 -> 2718000 | I30: =I31+I32+I33 -> 2140000 | J30: =J31+J32+J33 -> 2620000 | K30: =K31+K32+K33 -> 2531000 | ... V30: =V31+V32+V33 -> 0
B31: w tym | C31: pożyczki | D31: 480630 | E31: ='[1]zał.4 przych.i roz.'!$C$27 -> 225394 | F31: 241493 | G31: 100000 | H31: 100000 | I31: 50000 | J31: 100000 | K31: 200000 | L31: 260000 | M31: 599194.28
C32: kredyty | D32: 1504000 | E32: ='[1]zał.4 przych.i roz.'!$C$26 -> 2000000 | F32: 2036000 | G32: 2730000 | H32: 2618000 | I32: 2090000 | J32: ='[1]zał.12prog.spłat zob'!$K$54 -> 2520000 | K32: ='[1]zał.12prog.spłat zob'!$L$54 -> 2331000 | L32: 2392899
C33: wykup obligacji
A34: b | C34: pożyczki do udzielenia
A35: V | B35: Wynik budżetu (+ nadwyżka; - deficyt) | D35: =D6-D10 -> -1026157 | E35: =E6-E10 -> -1932041.2 | F35: =F6-F10 -> 1246834.9 | G35: =G6-G10 -> 2830000 | H35: =H6-H10 -> 2718000 | I35: =I6-I10 -> 2140000 | J35: =J6-J10 -> 2620000 | K35: =K6-K10 -> 2531000 | ... V35: =V6-V10 -> 0
A36: Va | B36: Finansowanie deficytu | D36: =D37+D38+D39+D40+D41+D42 -> 1026157 | E36: =E37+E38+E39+E40+E41+E42 -> 1932041.2 | F36: =F37+F38+F39+F40+F41+F42 -> 0 | G36: =G37+G38+G39+G40+G41+G42 -> 0 | H36: =H37+H38+H39+H40+H41+H42 -> 0 | I36: =I37+I38+I39+I40+I41+I42 -> 0 | J36: =J37+J38+J39+J40+J41+J42 -> 0 | K36: =K37+K38+K39+K40+K41+K42 -> 0 | ... V36: =V37+V38+V39+V40+V41+V42 -> 0
C37: pożyczki | D37: =IF(D35<0,IF(D23>(-D35),(-D35),D23),0) -> 50787 | E37: =IF(E35<0,IF(E23>(-E35),(-E35),E23),0) -> 428536.22 | F37: =IF(F35<0,IF(F23>(-F35),(-F35),F23),0) -> 0 | G37: =IF(G35<0,IF(G23>(-G35),(-G35),G23),0) -> 0 | H37: =IF(H35<0,IF(H23>(-H35),(-H35),H23),0) -> 0 | I37: =IF(I35<0,IF(I23>(-I35),(-I35),I23),0) -> 0 | J37: =IF(J35<0,IF(J23>(-J35),(-J35),J23),0) -> 0 | K37: =IF(K35<0,IF(K23>(-K35),(-K35),K23),0) -> 0 | ... V37: =IF(V35<0,IF(V23>(-V35),(-V35),V23),0) -> 0
C38: kredyty | D38: =IF((D37+D35)<0,IF(D24>(-D35-D37),(-D35-D37),D24),0) -> 975370 | E38: 1503505 | F38: =IF((F37+F35)<0,IF(F24>(-F35-F37),(-F35-F37),F24),0) -> 0 | G38: =IF((G37+G35)<0,IF(G24>(-G35-G37),(-G35-G37),G24),0) -> 0 | H38: =IF((H37+H35)<0,IF(H24>(-H35-H37),(-H35-H37),H24),0) -> 0 | I38: =IF((I37+I35)<0,IF(I24>(-I35-I37),(-I35-I37),I24),0) -> 0 | J38: =IF((J37+J35)<0,IF(J24>(-J35-J37),(-J35-J37),J24),0) -> 0 | K38: =IF((K37+K35)<0,IF(K24>(-K35-K37),(-K35-K37),K24),0) -> 0 | L38: =IF((L37+L35)<0,IF(L24>(-L35-L37),(-L35-L37),L24),0) -> 0 | M38: =IF((M37+M35)<0,IF(M24>(-M35-M37),(-M35-M37),M24),0) -> 0 | ... V38: =IF((V37+V35)<0,IF(V24>(-V35-V37),(-V35-V37),V24),0) -> 0
C39: emisja obligacji | D39: =IF((D37+D35+D38)<0,IF(D25>(-D35-D37-D38),(-D35-D37-D38),D25),0) -> 0 | E39: =IF((E37+E35+E38)<0,IF(E25>(-E35-E37-E38),(-E35-E37-E38),E25),0) -> 0 | F39: =IF((F37+F35+F38)<0,IF(F25>(-F35-F37-F38),(-F35-F37-F38),F25),0) -> 0 | G39: =IF((G37+G35+G38)<0,IF(G25>(-G35-G37-G38),(-G35-G37-G38),G25),0) -> 0 | H39: =IF((H37+H35+H38)<0,IF(H25>(-H35-H37-H38),(-H35-H37-H38),H25),0) -> 0 | I39: =IF((I37+I35+I38)<0,IF(I25>(-I35-I37-I38),(-I35-I37-I38),I25),0) -> 0 | J39: =IF((J37+J35+J38)<0,IF(J25>(-J35-J37-J38),(-J35-J37-J38),J25),0) -> 0 | K39: =IF((K37+K35+K38)<0,IF(K25>(-K35-K37-K38),(-K35-K37-K38),K25),0) -> 0 | ... V39: =IF((V37+V35+V38)<0,IF(V25>(-V35-V37-V38),(-V35-V37-V38),V25),0) -> 0
C40: spłata udzielonych pożyczek | D40: =IF((D37+D35+D38+D39)<0,IF(D26>(-D35-D37-D38-D39),(-D35-D37-D38-D39),D26),0) -> 0 | E40: =IF((E37+E35+E38+E39)<0,IF(E26>(-E35-E37-E38-E39),(-E35-E37-E38-E39),E26),0) -> 0 | F40: =IF((F37+F35+F38+F39)<0,IF(F26>(-F35-F37-F38-F39),(-F35-F37-F38-F39),F26),0) -> 0 | G40: =IF((G37+G35+G38+G39)<0,IF(G26>(-G35-G37-G38-G39),(-G35-G37-G38-G39),G26),0) -> 0 | H40: =IF((H37+H35+H38+H39)<0,IF(H26>(-H35-H37-H38-H39),(-H35-H37-H38-H39),H26),0) -> 0 | I40: =IF((I37+I35+I38+I39)<0,IF(I26>(-I35-I37-I38-I39),(-I35-I37-I38-I39),I26),0) -> 0 | J40: =IF((J37+J35+J38+J39)<0,IF(J26>(-J35-J37-J38-J39),(-J35-J37-J38-J39),J26),0) -> 0 | K40: =IF((K37+K35+K38+K39)<0,IF(K26>(-K35-K37-K38-K39),(-K35-K37-K38-K39),K26),0) -> 0 | ... V40: =IF((V37+V35+V38+V39)<0,IF(V26>(-V35-V37-V38-V39),(-V35-V37-V38-V39),V26),0) -> 0
C41: nadwyżka budżetowa z lat poprzednich | D41: =IF((D37+D35+D38+D39+D40)<0,IF(D27>(-D35-D37-D38-D39-D40),(-D35-D37-D38-D39-D40),D27),0) -> 0 | E41: =IF((E37+E35+E38+E39+E40)<0,IF(E27>(-E35-E37-E38-E39-E40),(-E35-E37-E38-E39-E40),E27),0) -> 0 | F41: =IF((F37+F35+F38+F39+F40)<0,IF(F27>(-F35-F37-F38-F39-F40),(-F35-F37-F38-F39-F40),F27),0) -> 0 | G41: =IF((G37+G35+G38+G39+G40)<0,IF(G27>(-G35-G37-G38-G39-G40),(-G35-G37-G38-G39-G40),G27),0) -> 0 | H41: =IF((H37+H35+H38+H39+H40)<0,IF(H27>(-H35-H37-H38-H39-H40),(-H35-H37-H38-H39-H40),H27),0) -> 0 | I41: =IF((I37+I35+I38+I39+I40)<0,IF(I27>(-I35-I37-I38-I39-I40),(-I35-I37-I38-I39-I40),I27),0) -> 0 | J41: =IF((J37+J35+J38+J39+J40)<0,IF(J27>(-J35-J37-J38-J39-J40),(-J35-J37-J38-J39-J40),J27),0) -> 0 | K41: =IF((K37+K35+K38+K39+K40)<0,IF(K27>(-K35-K37-K38-K39-K40),(-K35-K37-K38-K39-K40),K27),0) -> 0 | ... V41: =IF((V37+V35+V38+V39+V40)<0,IF(V27>(-V35-V37-V38-V39-V40),(-V35-V37-V38-V39-V40),V27),0) -> 0
C42: wolne środki | D42: =IF((D37+D35+D38+D39+D40+D41)<0,IF(D28>(-D35-D37-D38-D39-D40-D41),(-D35-D37-D38-D39-D40-D41),D28),0) -> 0 | E42: =IF((E37+E35+E38+E39+E40+E41)<0,IF(E28>(-E35-E37-E38-E39-E40-E41),(-E35-E37-E38-E39-E40-E41),E28),0) -> 0 | F42: =IF((F37+F35+F38+F39+F40+F41)<0,IF(F28>(-F35-F37-F38-F39-F40-F41),(-F35-F37-F38-F39-F40-F41),F28),0) -> 0 | G42: =IF((G37+G35+G38+G39+G40+G41)<0,IF(G28>(-G35-G37-G38-G39-G40-G41),(-G35-G37-G38-G39-G40-G41),G28),0) -> 0 | H42: =IF((H37+H35+H38+H39+H40+H41)<0,IF(H28>(-H35-H37-H38-H39-H40-H41),(-H35-H37-H38-H39-H40-H41),H28),0) -> 0 | I42: =IF((I37+I35+I38+I39+I40+I41)<0,IF(I28>(-I35-I37-I38-I39-I40-I41),(-I35-I37-I38-I39-I40-I41),I28),0) -> 0 | J42: =IF((J37+J35+J38+J39+J40+J41)<0,IF(J28>(-J35-J37-J38-J39-J40-J41),(-J35-J37-J38-J39-J40-J41),J28),0) -> 0 | K42: =IF((K37+K35+K38+K39+K40+K41)<0,IF(K28>(-K35-K37-K38-K39-K40-K41),(-K35-K37-K38-K39-K40-K41),K28),0) -> 0 | ... V42: =IF((V37+V35+V38+V39+V40+V41)<0,IF(V28>(-V35-V37-V38-V39-V40-V41),(-V35-V37-V38-V39-V40-V41),V28),0) -> 0
A43: Vb | B43: Przeznaczenie nadwyżki | D43: =IF(D35>0,D35,0) -> 0 | E43: =IF(E35>0,E35,0) -> 0 | F43: =IF(F35>0,F35,0) -> 1246834.9 | G43: =IF(G35>0,G35,0) -> 2830000 | H43: =IF(H35>0,H35,0) -> 2718000 | I43: =IF(I35>0,I35,0) -> 2140000 | J43: =IF(J35>0,J35,0) -> 2620000 | K43: =IF(K35>0,K35,0) -> 2531000 | ... V43: =IF(V35>0,V35,0) -> 0
C44: spłata zaciągniętęgo długu | D44: =D43-D45 -> 0 | E44: =E43-E45 -> 0 | F44: =F43-F45 -> 1246834.9 | G44: =G43-G45 -> 2830000 | H44: =H43-H45 -> 2718000 | I44: =I43-I45 -> 2140000 | J44: =J43-J45 -> 2620000 | K44: =K43-K45 -> 2531000 | ... V44: =V43-V45 -> 0
C45: udzielenie pożyczek | D45: =IF(D35>0,IF(D34>D35,D35,D34),0) -> 0 | E45: =IF(E35>0,IF(E34>E35,E35,E34),0) -> 0 | F45: =IF(F35>0,IF(F34>F35,F35,F34),0) -> 0 | G45: =IF(G35>0,IF(G34>G35,G35,G34),0) -> 0 | H45: =IF(H35>0,IF(H34>H35,H35,H34),0) -> 0 | I45: =IF(I35>0,IF(I34>I35,I35,I34),0) -> 0 | J45: =IF(J35>0,IF(J34>J35,J35,J34),0) -> 0 | K45: =IF(K35>0,IF(K34>K35,K35,K34),0) -> 0 | ... V45: =IF(V35>0,IF(V34>V35,V35,V34),0) -> 0
A47: VI | C47: Dług / Prognoza kwoty długu | D47: 15505887 | E47: =D47+E21-E29 -> 17437928 | F47: =E47+F21-F29 -> 16191093 | G47: =F47+G21-G29 -> 13361093 | H47: =G47+H21-H29 -> 10643093 | I47: =H47+I21-I29 -> 8503093.3 | J47: =I47+J21-J29 -> 5883093.3 | K47: =J47+K21-K29 -> 3352093.3 | L47: =K47+L21-L29 -> 699194.28 | ... N47: =M47+N21-N29 -> 100000 | O47: =N47+O22-O30 -> 100000 | P47: =O47+P22-P30 -> 100000 | Q47: =P47+Q22-Q30 -> 100000 | R47: =Q47+R22-R30 -> 100000 | S47: =R47+S22-S30 -> 100000 | T47: =S47+T22-T30 -> 100000 | U47: =T47+U22-U30 -> 100000 | V47: =U47+V22-V30 -> 100000
A49: VII | B49: Relacja z art. 169 ustawy o finansach publicznych z dnia 30 czerwca 2005r (max 15%) | D49: =(D12+D30+D13+D18)/D6 -> 0.066968189 | E49: =(E12+E30+313+E18)/E6 -> 0.070621385 | F49: =(F12+F30+F13+F18)/F6 -> 0.10040978 | G49: =(G12+G30+G13+G18)/G6 -> 0.11159115 | H49: x | I49: x | J49: x | K49: x | L49: x | M49: x | N49: x | O49: x | P49: x | Q49: x | R49: x | S49: x | T49: x | U49: x | V49: x
A50: VIII | B50: Relacja z art. 170 ustawy o finansach publicznych z dnia 30 czerwca 2005r (max 60%) | D50: =D47/D6 -> 0.38249596 | E50: =E47/E6 -> 0.41126952 | F50: =F47/F6 -> 0.38444199 | G50: =G47/G6 -> 0.32256329 | H50: x | I50: x | J50: x | K50: x | L50: x | M50: x | N50: x | O50: x | P50: x | Q50: x | R50: x | S50: x | T50: x | U50: x | V50: x
A51: IX. | B51: Obciążenia spłatami wg art. 243 ust 1 ustawy o finansach publicznych - część wzoru w treści: (R + O)/D | D51: =(D30+D12+D13+D18)/D6 -> 0.066968189 | E51: =(E30+E12+E13+E18)/E6 -> 0.089945901 | F51: =(F30+E12+E13+F18)/F6 -> 0.091790362 | G51: =(G30+F12+F13+G18)/G6 -> 0.11543122 | H51: =(H30+G12+G13+H18)/H6 -> 0.11100416 | I51: =(I30+H12+H13+I18)/I6 -> 0.089437998 | J51: =(J30+I12+I13+J18)/J6 -> 0.096876206 | K51: =(K30+J12+J13+K18)/K6 -> 0.08828424 | L51: =(L30+K12+K13+L18)/L6 -> 0.08466248 | M51: =(M30+M12+M13+M18)/M6 -> 0.035183232 | N51: =(N30+N12+N13+N18)/N6 -> 0.01968625 | O51: =(O30+O12+O13+O18)/O6 -> 0.019505202 | P51: =(P30+P12+P13+P18)/P6 -> 0.018478661 | Q51: =(Q30+Q12+Q13+Q18)/Q6 -> 0.012634939 | R51: =(R30+R12+R13+R18)/R6 -> 0 | S51: =(S30+S12+S13+S18)/S6 -> 0 | T51: =(T30+T12+T13+T18)/T6 -> 0 | ... V51: =(V30+V12+V13+V18)/V6 -> 0
A52: X. | B52: Limit obciążeń budżetu spłatą długu, kosztami jego obsługi oraz poręczeniami i gwarancjami - zgodnie z art. 243 ust. 1 ustawy o finansach publicznych - średnia z trzech poprzednich lat | D52: x | E52: x | F52: x | G52: x | H52: =(E65+F65+G65)/3 -> 0.13635052 | I52: =(F65+G65+H65)/3 -> 0.18058854 | J52: =(G65+H65+I65)/3 -> 0.17124072 | K52: =(H65+I65+J65)/3 -> 0.15485741 | L52: =(I65+J65+K65)/3 -> 0.15319833 | M52: =(J65+K65+L65)/3 -> 0.15416116 | N52: =(K65+L65+M65)/3 -> 0.14159933 | O52: =(L65+M65+N65)/3 -> 0.12447385 | ... V52: =(S65+T65+U65)/3 -> 0.11487983
A53: XI. | B53: Relacja o ktorej mowa w art. 243 ustawy z dnia 27 sierpnia 2009r o finansach publicznych | D53: x | E53: x | F53: x | G53: x | H53: =H52-H51 -> 0.025346355 | I53: =I52-I51 -> 0.091150538 | J53: =J52-J51 -> 0.074364517 | K53: =K52-K51 -> 0.066573165 | L53: =L52-L51 -> 0.068535853 | M53: =M52-M51 -> 0.11897793 | N53: =N52-N51 -> 0.12191308 | O53: =O52-O51 -> 0.10496865 | ... V53: =V52-V51 -> 0.11487983
A54: XII. | B54: Sposób sfinansowania spłaty długu | C54: pożyczki | D54: =IF(D30>0,IF(D23>(D30),(D30),D23),0) -> 50787 | E54: =IF(E30>0,IF(E23>(E30),(E30),E23),0) -> 428536.22 | F54: =IF(F30>0,IF(F23>(F30),(F30),F23),0) -> 1030658.1 | G54: =IF(G30>0,IF(G23>(G30),(G30),G23),0) -> 0 | H54: =IF(H30>0,IF(H23>(H30),(H30),H23),0) -> 0 | I54: =IF(I30>0,IF(I23>(I30),(I30),I23),0) -> 0 | J54: =IF(J30>0,IF(J23>(J30),(J30),J23),0) -> 0 | K54: =IF(K30>0,IF(K23>(K30),(K30),K23),0) -> 0 | ... V54: =IF(V30>0,IF(V23>(V30),(V30),V23),0) -> 0
C55: kredyty | D55: =IF((D54+D30)>0,IF(D24>(D30-D54),(D30-D54),D24),0) -> 1933843 | E55: =IF((E54+E30)>0,IF(E24>(E30-E54),(E30-E54),E24),0) -> 1796857.8 | F55: =IF((F54+F30)>0,IF(F24>(F30-F54),(F30-F54),F24),0) -> 0 | G55: =IF((G54+G30)>0,IF(G24>(G30-G54),(G30-G54),G24),0) -> 0 | H55: =IF((H54+H30)>0,IF(H24>(H30-H54),(H30-H54),H24),0) -> 0 | I55: =IF((I54+I30)>0,IF(I24>(I30-I54),(I30-I54),I24),0) -> 0 | J55: =IF((J54+J30)>0,IF(J24>(J30-J54),(J30-J54),J24),0) -> 0 | K55: =IF((K54+K30)>0,IF(K24>(K30-K54),(K30-K54),K24),0) -> 0 | ... V55: =IF((V54+V30)>0,IF(V24>(V30-V54),(V30-V54),V24),0) -> 0
C56: emisja obligacji | D56: =IF((D54+D30+D55)>0,IF(D25>(D30-D54-D55),(D30-D54-D55),D25),0) -> 0 | E56: =IF((E54+E30+E55)>0,IF(E25>(E30-E54-E55),(E30-E54-E55),E25),0) -> 0 | F56: =IF((F54+F30+F55)>0,IF(F25>(F30-F54-F55),(F30-F54-F55),F25),0) -> 0 | G56: =IF((G54+G30+G55)>0,IF(G25>(G30-G54-G55),(G30-G54-G55),G25),0) -> 0 | H56: =IF((H54+H30+H55)>0,IF(H25>(H30-H54-H55),(H30-H54-H55),H25),0) -> 0 | I56: =IF((I54+I30+I55)>0,IF(I25>(I30-I54-I55),(I30-I54-I55),I25),0) -> 0 | J56: =IF((J54+J30+J55)>0,IF(J25>(J30-J54-J55),(J30-J54-J55),J25),0) -> 0 | K56: =IF((K54+K30+K55)>0,IF(K25>(K30-K54-K55),(K30-K54-K55),K25),0) -> 0 | ... V56: =IF((V54+V30+V55)>0,IF(V25>(V30-V54-V55),(V30-V54-V55),V25),0) -> 0
C57: spłata udzielonych pożyczek | D57: =IF((D54+D30+D55+D56)>0,IF(D26>(D30-D54-D55-D56),(D30-D54-D55-D56),D26),0) -> 0 | E57: =IF((E54+E30+E55+E56)>0,IF(E26>(E30-E54-E55-E56),(E30-E54-E55-E56),E26),0) -> 0 | F57: =IF((F54+F30+F55+F56)>0,IF(F26>(F30-F54-F55-F56),(F30-F54-F55-F56),F26),0) -> 0 | G57: =IF((G54+G30+G55+G56)>0,IF(G26>(G30-G54-G55-G56),(G30-G54-G55-G56),G26),0) -> 0 | H57: =IF((H54+H30+H55+H56)>0,IF(H26>(H30-H54-H55-H56),(H30-H54-H55-H56),H26),0) -> 0 | I57: =IF((I54+I30+I55+I56)>0,IF(I26>(I30-I54-I55-I56),(I30-I54-I55-I56),I26),0) -> 0 | J57: =IF((J54+J30+J55+J56)>0,IF(J26>(J30-J54-J55-J56),(J30-J54-J55-J56),J26),0) -> 0 | K57: =IF((K54+K30+K55+K56)>0,IF(K26>(K30-K54-K55-K56),(K30-K54-K55-K56),K26),0) -> 0 | ... V57: =IF((V54+V30+V55+V56)>0,IF(V26>(V30-V54-V55-V56),(V30-V54-V55-V56),V26),0) -> 0
C58: nadwyżka budżetowa z lat poprzednich | D58: =IF((D54+D30+D55+D56+D57)>0,IF(D27>(D30-D54-D55-D56-D57),(D30-D54-D55-D56-D57),D27),0) -> 0 | E58: =IF((E54+E30+E55+E56+E57)>0,IF(E27>(E30-E54-E55-E56-E57),(E30-E54-E55-E56-E57),E27),0) -> 0 | F58: =IF((F54+F30+F55+F56+F57)>0,IF(F27>(F30-F54-F55-F56-F57),(F30-F54-F55-F56-F57),F27),0) -> 0 | G58: =IF((G54+G30+G55+G56+G57)>0,IF(G27>(G30-G54-G55-G56-G57),(G30-G54-G55-G56-G57),G27),0) -> 0 | H58: =IF((H54+H30+H55+H56+H57)>0,IF(H27>(H30-H54-H55-H56-H57),(H30-H54-H55-H56-H57),H27),0) -> 0 | I58: =IF((I54+I30+I55+I56+I57)>0,IF(I27>(I30-I54-I55-I56-I57),(I30-I54-I55-I56-I57),I27),0) -> 0 | J58: =IF((J54+J30+J55+J56+J57)>0,IF(J27>(J30-J54-J55-J56-J57),(J30-J54-J55-J56-J57),J27),0) -> 0 | K58: =IF((K54+K30+K55+K56+K57)>0,IF(K27>(K30-K54-K55-K56-K57),(K30-K54-K55-K56-K57),K27),0) -> 0 | ... V58: =IF((V54+V30+V55+V56+V57)>0,IF(V27>(V30-V54-V55-V56-V57),(V30-V54-V55-V56-V57),V27),0) -> 0
C59: wolne środki | D59: =IF((D54+D30+D55+D56+D57+D58)>0,IF(D28>(D30-D54-D55-D56-D57-D58),(D30-D54-D55-D56-D57-D58),D28),0) -> 0 | E59: =IF((E54+E30+E55+E56+E57+E58)>0,IF(E28>(E30-E54-E55-E56-E57-E58),(E30-E54-E55-E56-E57-E58),E28),0) -> 0 | F59: =IF((F54+F30+F55+F56+F57+F58)>0,IF(F28>(F30-F54-F55-F56-F57-F58),(F30-F54-F55-F56-F57-F58),F28),0) -> 0 | G59: =IF((G54+G30+G55+G56+G57+G58)>0,IF(G28>(G30-G54-G55-G56-G57-G58),(G30-G54-G55-G56-G57-G58),G28),0) -> 0 | H59: =IF((H54+H30+H55+H56+H57+H58)>0,IF(H28>(H30-H54-H55-H56-H57-H58),(H30-H54-H55-H56-H57-H58),H28),0) -> 0 | I59: =IF((I54+I30+I55+I56+I57+I58)>0,IF(I28>(I30-I54-I55-I56-I57-I58),(I30-I54-I55-I56-I57-I58),I28),0) -> 0 | J59: =IF((J54+J30+J55+J56+J57+J58)>0,IF(J28>(J30-J54-J55-J56-J57-J58),(J30-J54-J55-J56-J57-J58),J28),0) -> 0 | K59: =IF((K54+K30+K55+K56+K57+K58)>0,IF(K28>(K30-K54-K55-K56-K57-K58),(K30-K54-K55-K56-K57-K58),K28),0) -> 0 | ... V59: =IF((V54+V30+V55+V56+V57+V58)>0,IF(V28>(V30-V54-V55-V56-V57-V58),(V30-V54-V55-V56-V57-V58),V28),0) -> 0
C60: nadwyżka budżetowa | D60: =IF((D54+D55+D30+D56+D57+D58+D59)>0,IF(D43>(D30-D54-D55-D56-D57-D58-D59),(D30-D55-D54-D56-D57-D58-D59),D43),0) -> 0 | E60: =IF((E54+E55+E30+E56+E57+E58+E59)>0,IF(E43>(E30-E54-E55-E56-E57-E58-E59),(E30-E55-E54-E56-E57-E58-E59),E43),0) -> 0 | F60: =IF((F54+F55+F30+F56+F57+F58+F59)>0,IF(F43>(F30-F54-F55-F56-F57-F58-F59),(F30-F55-F54-F56-F57-F58-F59),F43),0) -> 1246834.9 | G60: =IF((G54+G55+G30+G56+G57+G58+G59)>0,IF(G43>(G30-G54-G55-G56-G57-G58-G59),(G30-G55-G54-G56-G57-G58-G59),G43),0) -> 2830000 | H60: =IF((H54+H55+H30+H56+H57+H58+H59)>0,IF(H43>(H30-H54-H55-H56-H57-H58-H59),(H30-H55-H54-H56-H57-H58-H59),H43),0) -> 2718000 | I60: =IF((I54+I55+I30+I56+I57+I58+I59)>0,IF(I43>(I30-I54-I55-I56-I57-I58-I59),(I30-I55-I54-I56-I57-I58-I59),I43),0) -> 2140000 | J60: =IF((J54+J55+J30+J56+J57+J58+J59)>0,IF(J43>(J30-J54-J55-J56-J57-J58-J59),(J30-J55-J54-J56-J57-J58-J59),J43),0) -> 2620000 | K60: =IF((K54+K55+K30+K56+K57+K58+K59)>0,IF(K43>(K30-K54-K55-K56-K57-K58-K59),(K30-K55-K54-K56-K57-K58-K59),K43),0) -> 2531000 | ... V60: =IF((V54+V55+V30+V56+V57+V58+V59)>0,IF(V43>(V30-V54-V55-V56-V57-V58-V59),(V30-V55-V54-V56-V57-V58-V59),V43),0) -> 0
C61: * przewidywane wykonanie za 2011
A62: Wielkości kontrolne i informacyjne
A63: A. | B63: Limit obciążeń budżetu spłatą długu, kosztami jego obsługi oraz poręczeniami i gwarancjami-średnia z trzech lat | D63: x | E63: =(D65+'arkusz 1'!D16+'arkusz 1'!C16)/3 -> 0.068495643 | F63: =(E65+D65+'arkusz 1'!D16)/3 -> 0.028581689 | G63: =(D65+E65+F65)/3 -> 0.085385021 | H63: =(E65+F65+G65)/3 -> 0.13635052 | I63: =(F65+G65+H65)/3 -> 0.18058854 | J63: =(G65+H65+I65)/3 -> 0.17124072 | K63: =(H65+I65+J65)/3 -> 0.15485741 | L63: =(I65+J65+K65)/3 -> 0.15319833 | M63: =(J65+K65+L65)/3 -> 0.15416116 | N63: =(K65+L65+M65)/3 -> 0.14159933 | ... V63: =(S65+T65+U65)/3 -> 0.11487983
A64: B. | B64: Relacja o ktorej mowa w art. 243 ustawy z dnia 27 sierpnia 2009r o finansach publicznych (Dz. U. Nr 157, poz. 1240) | D64: x | E64: =E63-E51 -> -0.021450258 | F64: =F63-F51 -> -0.063208673 | G64: =G63-G51 -> -0.030046202 | H64: =H63-H51 -> 0.025346355 | I64: =I63-I51 -> 0.091150538 | J64: =J63-J51 -> 0.074364517 | K64: =K63-K51 -> 0.066573165 | L64: =L63-L51 -> 0.068535853 | ... V64: =V63-V51 -> 0.11487983
A65: C. | B65: (Dochody bieżące + sprzedaż majątku - wydatki bieżące) / dochody ogółem: (Db+Sm-Wb)/D - dla danego roku | D65: =(D7+D9-D11)/D6 -> 0.050998608 | E65: =(E7+E9-E11)/E6 -> 0.019780075 | F65: =(F7+F9-F11)/F6 -> 0.18537638 | G65: =(G7+G9-G11)/G6 -> 0.2038951 | H65: =(H7+H9-H11)/H6 -> 0.15249413 | I65: =(I7+I9-I11)/I6 -> 0.15733294 | J65: =(J7+J9-J11)/J6 -> 0.15474515 | K65: =(K7+K9-K11)/K6 -> 0.14751691 | ... V65: =(V7+V9-V11)/V6 -> 0.12336368
A66: D. | B66: Równowaga budżetowa D+ P - W - R = 0 | D66: =D6+D21-D10-D29 -> 0 | E66: =E6+E21-E10-E29 -> 0 | F66: =F6+F21-F10-F29 -> 0 | G66: =G6+G21-G10-G29 -> 0 | H66: =H6+H21-H10-H29 -> 0 | I66: =I71+I6+I21-I10-I29 -> 0 | J66: =J6+J21-J10-J29 -> 0 | K66: =K6+K21-K10-K29 -> 0 | L66: =L6+L21-L10-L29 -> 0 | M66: =M6+M21-M10-M29 -> 1.1641532e-09 | N66: =N6+N21-N10-N29 -> 0 | O66: =O6+O21-O10-O29 -> 0 | P66: =P6+P21-P10-P29 -> 0.2 | Q66: =Q6+Q21-Q10-Q29 -> -0.037999995 | ... V66: =V6+V21-V10-V29 -> 0
A67: E. | B67: Różnica dochody bieżące + nadwyżka z lat ubiegłych+ wolne środki - wydatki bieżące (art. 242 ust. 1 ufp) - od roku 2011 nie może być ze znakiem "minus" | D67: =D7+D27+D28-D11 -> 2064848 | E67: =E7+E27+E28-E11 -> 718680 | F67: =F7+F27+F28-F11 -> 7807279.9 | G67: =G7+G27+G28-G11 -> 8445665 | H67: =H7+H27+H28-H11 -> 6196093 | I67: =I7+I27+I28-I11 -> 6684812 | J67: =J7+J27+J28-J11 -> 6609213 | K67: =K7+K27+K28-K11 -> 6396379 | ... V67: =V7+V27+V28-V11 -> 6072457
A68: F. | B68: Obsługa długu związana z UE | D68: 10879 | E68: 0 | F68: 0 | G68: 0 | H68: x | I68: x | J68: x | K68: x | L68: x | M68: x | N68: x | O68: x | P68: x | Q68: x | R68: x | S68: x | T68: x | U68: x | V68: x
A69: G. | B69: Spłata długu związana z UE | D69: 223480 | E69: 0 | F69: 0 | G69: 0 | H69: 0 | I69: 0 | J69: 0 | K69: 0 | L69: 0 | M69: 0 | N69: 0 | O69: 0 | P69: 0 | Q69: 0 | R69: 0 | S69: 0 | T69: 0 | U69: 0 | V69: 0
A70: H. | B70: Gwarancje i poręczenia związane z UE -sam. os. prawne | D70: 724670 | E70: 1191526 | F70: 1155828 | G70: 1120131 | H70: 1084433 | I70: 1048736 | J70: 1013038 | K70: 977341 | L70: 941643 | M70: 905946 | N70: 870245 | O70: 890132 | P70: 851718 | Q70: 588193 | R70: 0 | S70: ='Zał. 2 Przedsięwzięcia'!V27 -> 0 | T70: ='Zał. 2 Przedsięwzięcia'!W27 -> 0 | U70: ='Zał. 2 Przedsięwzięcia'!X27 -> 0 | V70: ='Zał. 2 Przedsięwzięcia'!Y27 -> 0
A71: I. | B71: Dług na koniec roku związany z UE. | D71: 223430 | E71: 0 | F71: 0 | G71: 0 | H71: x | I71: 0 | J71: x | K71: x | L71: x | M71: x | N71: x | O71: x | P71: x | Q71: x | R71: x | S71: x | T71: x | U71: x | V71: x
A72: J. | B72: Relacja z art. 169 ustawy o finansach publicznych z dnia 30 czerwca 2005r (max 15%) bez UE | D72: =((D12-D68)+(D30-D69)+D13+D18-D70)/D6 -> 0.043311064 | E72: =((D12-E68)+(E30-E69)+D13+E18-E70)/E6 -> 0.041604501 | F72: =((E12-F68)+(F30-F69)+E13+F18-F70)/F6 -> 0.064346334 | G72: =((F12-G68)+(G30-G69)+F13+G18-G70)/G6 -> 0.088389039 | H72: x | I72: x | J72: x | K72: x | L72: x | M72: x | N72: x | O72: x | P72: x | Q72: x | R72: x | S72: x | T72: x | U72: x | V72: x
A73: K. | B73: Relacja z art. 170 ustawy o finansach publicznych z dnia 30 czerwca 2005r (max 60%) bez UE | D73: =(D47-D71)/D6 -> 0.37698443 | E73: =(E47-E71)/E6 -> 0.41126952 | F73: =(F47-F71)/F6 -> 0.38444199 | G73: =(G47-G71)/G6 -> 0.32256329 | H73: x | I73: x | J73: x | K73: x | L73: x | M73: x | N73: x | O73: x | P73: x | Q73: x | R73: x | S73: x | T73: x | U73: x | V73: x
A74: L. | B74: (R + O) / D bez UE | D74: =(D30-D69+D12+D13+D18-D70)/D6 -> 0.043579425 | E74: =(E30-E69+D12+D13+E18-E70)/E6 -> 0.041604501 | F74: =(F30-F69+E12+E13+F18-F70)/F6 -> 0.064346334 | G74: =(G30-G69+F12+F13+G18-G70)/G6 -> 0.088389039 | H74: =(H30-H69+G12+G13+H18-H70)/H6 -> 0.084314819 | I74: =(I30-I69+H12+H13+I18-I70)/I6 -> 0.064755072 | J74: =(J30-J69+I12+I13+J18-J70)/J6 -> 0.073157389 | K74: =(K30-K69+J12+J13+K18-K70)/K6 -> 0.065744249 | L74: =(L30-L69+K12+K13+L18-L70)/L6 -> 0.063722605 | M74: =(M30-M69+M12+M13+M18-M70)/M6 -> 0.014162397 | N74: =(N30-N69+N12+N13+N18-N70)/N6 -> 0 | O74: =(O30-O69+O12+O13+O18-O70)/O6 -> 0 | P74: =(P30-P69+P12+P13+P18-P70)/P6 -> 0 | Q74: =(Q30-Q69+Q12+Q13+Q18-Q70)/Q6 -> 0 | R74: =(R30-R69+R12+R13+R18-R70)/R6 -> 0 | S74: =(S30-S69+S12+S13+S18-S70)/S6 -> 0 | T74: =(T30-T69+T12+T13+T18-T70)/T6 -> 0 | ... V74: =(V30-V69+V12+V13+V18-V70)/V6 -> 0
A75: Ł | B75: Relacja o ktorej mowa w art. 243 ustawy z dnia 27 sierpnia 2009r o finansach publicznych (Dz. U. Nr 157, poz. 1240) - od roku 2014 nie może być ze znakiem "minus" - bez UE | D75: x | E75: =E63-E74 -> 0.026891143 | F75: =F63-F74 -> -0.035764645 | G75: =G63-G74 -> -0.0030040179 | H75: =H52-H74 -> 0.0520357 | I75: =I52-I74 -> 0.11583346 | J75: =J52-J74 -> 0.098083334 | K75: =K52-K74 -> 0.089113156 | L75: =L52-L74 -> 0.089475728 | M75: =M52-M74 -> 0.13999876 | N75: =N52-N74 -> 0.14159933 | O75: =O52-O74 -> 0.12447385 | ... V75: =V52-V74 -> 0.11487983
A76: M | B76: Przypadające na jednostkę kwoty zobowiązań związków j.s.t. | D76: x | E76: x | F76: x | G76: x | H76: x | I76: x | J76: x | K76: x | L76: x | M76: x | N76: x | O76: x | P76: x | Q76: x | R76: x | S76: x | T76: x | U76: x | V76: x
E78: =E6+E21-E10-E29 -> 0 | F78: =F6+F21-F10-F29 -> 0 | G78: =G6+G21-G10-G29 -> 0 | H78: =H6+H21-H10-H29 -> 0 | I78: =I6+I21-I10-I29 -> 0 | J78: =J6+J21-J10-J29 -> 0 | K78: =K6+K21-K10-K29 -> 0 | L78: =L6+L21-L10-L29 -> 0 | ... V78: =V6+V21-V10-V29 -> 0 | AI78: =AI6+AI21-AI10-AI29 -> 0 | AJ78: =AJ6+AJ21-AJ10-AJ29 -> 0 | AK78: =AK6+AK21-AK10-AK29 -> 0
